Workbook

Sheet 體重追蹤表
A1: 日期 | B1: 體重 | C1: 目標體重 | E1: 日期 | F1: 體重 | G1: 目標體重
A2: 41456 | B2: 58.3 | C2: ='7月份 圖表'!$D$5 -> 55 | E2: 41487 | F2: 55.5 | G2: ='8月份 圖表'!$D$5 -> 50
A3: =A2+1 -> 41457 | B3: 58.4 | C3: ='7月份 圖表'!$D$5 -> 55 | E3: =E2+1 -> 41488 | F3: 54 | G3: ='8月份 圖表'!$D$5 -> 50
A4: =A3+1 -> 41458 | B4: 58.6 | C4: ='7月份 圖表'!$D$5 -> 55 | E4: =E3+1 -> 41489 | F4: 54.9 | G4: ='8月份 圖表'!$D$5 -> 50
A5: =A4+1 -> 41459 | B5: 57.5 | C5: ='7月份 圖表'!$D$5 -> 55 | E5: =E4+1 -> 41490 | F5: 57.9 | G5: ='8月份 圖表'!$D$5 -> 50
A6: =A5+1 -> 41460 | B6: 59 | C6: ='7月份 圖表'!$D$5 -> 55 | E6: =E5+1 -> 41491 | F6: 57.1 | G6: ='8月份 圖表'!$D$5 -> 50
A7: =A6+1 -> 41461 | B7: 55.9 | C7: ='7月份 圖表'!$D$5 -> 55 | E7: =E6+1 -> 41492 | F7: 59.5 | G7: ='8月份 圖表'!$D$5 -> 50
A8: =A7+1 -> 41462 | B8: 56.4 | C8: ='7月份 圖表'!$D$5 -> 55 | E8: =E7+1 -> 41493 | F8: 55.9 | G8: ='8月份 圖表'!$D$5 -> 50
A9: =A8+1 -> 41463 | B9: 56.7 | C9: ='7月份 圖表'!$D$5 -> 55 | E9: =E8+1 -> 41494 | F9: 55.4 | G9: ='8月份 圖表'!$D$5 -> 50
A10: =A9+1 -> 41464 | B10: 57.7 | C10: ='7月份 圖表'!$D$5 -> 55 | E10: =E9+1 -> 41495 | F10: 58.7 | G10: ='8月份 圖表'!$D$5 -> 50
A11: =A10+1 -> 41465 | B11: 56.6 | C11: ='7月份 圖表'!$D$5 -> 55 | E11: =E10+1 -> 41496 | F11: 56.5 | G11: ='8月份 圖表'!$D$5 -> 50
A12: =A11+1 -> 41466 | B12: 60.6 | C12: ='7月份 圖表'!$D$5 -> 55 | E12: =E11+1 -> 41497 | F12: 55.9 | G12: ='8月份 圖表'!$D$5 -> 50
A13: =A12+1 -> 41467 | B13: 57.4 | C13: ='7月份 圖表'!$D$5 -> 55 | E13: =E12+1 -> 41498 | F13: 56.3 | G13: ='8月份 圖表'!$D$5 -> 50
A14: =A13+1 -> 41468 | B14: 59.6 | C14: ='7月份 圖表'!$D$5 -> 55 | E14: =E13+1 -> 41499 | F14: 58.7 | G14: ='8月份 圖表'!$D$5 -> 50
... A32: =A31+1 -> 41486 | B32: 58 | C32: ='7月份 圖表'!$D$5 -> 55 | E32: =E31+1 -> 41517 | F32: 50.3 | G32: ='8月份 圖表'!$D$5 -> 50

Sheet 7月份 圖表
B1: =MONTH(體重追蹤表!A2)&"月份 體重追蹤表" -> 7月份 體重追蹤表
C5: 目標體重 | D5: 55

Sheet 8月份 圖表
B1: =MONTH(體重追蹤表!E2)&"月份 體重追蹤表" -> 8月份 體重追蹤表
C5: 目標體重 | D5: 50
