Workbook

Sheet Data
A1: Calub | B1: Dyana | C1: E mail:family@cpc.com.jp
A2: Graham | B2: Elka | C2: E mail:wuwu@cathlife.com.jp
A3: Jones | B3: Leisel | C3: E mail:june@im2.im.tku.edu.jp
A4: O'neill | B4: Susie | C4: E mail:pau@mail.csf.org.jp
A5: Reilly | B5: Jennifer | C5: E mail:lin@mail.tku.edu.jp
A6: Rooney | B6: Giaan | C6: E mail:ming@mail.ntu.edu.jp
A7: Ryan | B7: Sarah | C7: E mail:linlin@aeo15.jpnet.net
A8: Thomas | B8: Petria | C8: E mail:ppp@moea.gov.jp
A9: Thomson | B9: Kirsten | C9: E mail:susu@mail.csf.org.jp
A10: White | B10: Tarnee | C10: E mail:hei@aeo16.jpnet.net
A11: Callus | B11: Ashley | C11: E mail:tony@mail.nyu.edu
A12: Fydler | B12: Chris | C12: E mail:nacy@aeo15.jpnet.net
... A62: Figues | B62: Solenne | C62: E mail:BJ@aeo6.jpnet.net

Sheet Address Book
A1: Last name | B1: First name | C1: E-mail | D1: New E-mail
A2: Calub | B2: Dyana | C2: E mail:family@cpc.com.jp | D2: =LOWER(B2)&RIGHT(C2,LEN(C2)-FIND("@",C2)+1) -> dyana@cpc.com.jp
A3: Graham | B3: Elka | C3: E mail:wuwu@cathlife.com.jp | D3: =LOWER(B3)&RIGHT(C3,LEN(C3)-FIND("@",C3)+1) -> elka@cathlife.com.jp
A4: Jones | B4: Leisel | C4: E mail:june@im2.im.tku.edu.jp | D4: =LOWER(B4)&RIGHT(C4,LEN(C4)-FIND("@",C4)+1) -> leisel@im2.im.tku.edu.jp
A5: O'neill | B5: Susie | C5: E mail:pau@mail.csf.org.jp | D5: =LOWER(B5)&RIGHT(C5,LEN(C5)-FIND("@",C5)+1) -> susie@mail.csf.org.jp
A6: Reilly | B6: Jennifer | C6: E mail:lin@mail.tku.edu.jp | D6: =LOWER(B6)&RIGHT(C6,LEN(C6)-FIND("@",C6)+1) -> jennifer@mail.tku.edu.jp
A7: Rooney | B7: Giaan | C7: E mail:ming@mail.ntu.edu.jp | D7: =LOWER(B7)&RIGHT(C7,LEN(C7)-FIND("@",C7)+1) -> giaan@mail.ntu.edu.jp
A8: Ryan | B8: Sarah | C8: E mail:linlin@aeo15.jpnet.net | D8: =LOWER(B8)&RIGHT(C8,LEN(C8)-FIND("@",C8)+1) -> sarah@aeo15.jpnet.net
A9: Thomas | B9: Petria | C9: E mail:ppp@moea.gov.jp | D9: =LOWER(B9)&RIGHT(C9,LEN(C9)-FIND("@",C9)+1) -> petria@moea.gov.jp
A10: Thomson | B10: Kirsten | C10: E mail:susu@mail.csf.org.jp | D10: =LOWER(B10)&RIGHT(C10,LEN(C10)-FIND("@",C10)+1) -> kirsten@mail.csf.org.jp
A11: White | B11: Tarnee | C11: E mail:hei@aeo16.jpnet.net | D11: =LOWER(B11)&RIGHT(C11,LEN(C11)-FIND("@",C11)+1) -> tarnee@aeo16.jpnet.net
A12: Callus | B12: Ashley | C12: E mail:tony@mail.nyu.edu | D12: =LOWER(B12)&RIGHT(C12,LEN(C12)-FIND("@",C12)+1) -> ashley@mail.nyu.edu
A13: Fydler | B13: Chris | C13: E mail:nacy@aeo15.jpnet.net | D13: =LOWER(B13)&RIGHT(C13,LEN(C13)-FIND("@",C13)+1) -> chris@aeo15.jpnet.net
... A63: Figues | B63: Solenne | C63: E mail:BJ@aeo6.jpnet.net | D63: =LOWER(B63)&RIGHT(C63,LEN(C63)-FIND("@",C63)+1) -> solenne@aeo6.jpnet.net

Sheet Email
A1: =HYPERLINK("MAILTO:"&'Address Book'!D2,UPPER('Address Book'!A2)&" "&'Address Book'!B2) -> CALUB Dyana
A2: =HYPERLINK("MAILTO:"&'Address Book'!D3,UPPER('Address Book'!A3)&" "&'Address Book'!B3) -> GRAHAM Elka
A3: =HYPERLINK("MAILTO:"&'Address Book'!D4,UPPER('Address Book'!A4)&" "&'Address Book'!B4) -> JONES Leisel
A4: =HYPERLINK("MAILTO:"&'Address Book'!D5,UPPER('Address Book'!A5)&" "&'Address Book'!B5) -> O'NEILL Susie
A5: =HYPERLINK("MAILTO:"&'Address Book'!D6,UPPER('Address Book'!A6)&" "&'Address Book'!B6) -> REILLY Jennifer
A6: =HYPERLINK("MAILTO:"&'Address Book'!D7,UPPER('Address Book'!A7)&" "&'Address Book'!B7) -> ROONEY Giaan
A7: =HYPERLINK("MAILTO:"&'Address Book'!D8,UPPER('Address Book'!A8)&" "&'Address Book'!B8) -> RYAN Sarah
A8: =HYPERLINK("MAILTO:"&'Address Book'!D9,UPPER('Address Book'!A9)&" "&'Address Book'!B9) -> THOMAS Petria
A9: =HYPERLINK("MAILTO:"&'Address Book'!D10,UPPER('Address Book'!A10)&" "&'Address Book'!B10) -> THOMSON Kirsten
A10: =HYPERLINK("MAILTO:"&'Address Book'!D11,UPPER('Address Book'!A11)&" "&'Address Book'!B11) -> WHITE Tarnee
A11: =HYPERLINK("MAILTO:"&'Address Book'!D12,UPPER('Address Book'!A12)&" "&'Address Book'!B12) -> CALLUS Ashley
A12: =HYPERLINK("MAILTO:"&'Address Book'!D13,UPPER('Address Book'!A13)&" "&'Address Book'!B13) -> FYDLER Chris
... A62: =HYPERLINK("MAILTO:"&'Address Book'!D63,UPPER('Address Book'!A63)&" "&'Address Book'!B63) -> FIGUES Solenne
